BEGIN:VCALENDAR
VERSION:2.0
PRODID:-//Jeff Leeson - ECPv6.6.4.2//NONSGML v1.0//EN
CALSCALE:GREGORIAN
METHOD:PUBLISH
X-WR-CALNAME:Jeff Leeson
X-ORIGINAL-URL:https://jeffleesoncomedy.com
X-WR-CALDESC:Events for Jeff Leeson
REFRESH-INTERVAL;VALUE=DURATION:PT1H
X-Robots-Tag:noindex
X-PUBLISHED-TTL:PT1H
BEGIN:VTIMEZONE
TZID:America/New_York
BEGIN:DAYLIGHT
TZOFFSETFROM:-0500
TZOFFSETTO:-0400
TZNAME:EDT
DTSTART:20260308T070000
END:DAYLIGHT
BEGIN:STANDARD
TZOFFSETFROM:-0400
TZOFFSETTO:-0500
TZNAME:EST
DTSTART:20261101T060000
END:STANDARD
END:VTIMEZONE
BEGIN:VEVENT
DTSTART;TZID=America/New_York:20260306T200000
DTEND;TZID=America/New_York:20260306T220000
DTSTAMP:20260421T055840
CREATED:20251023T170747Z
LAST-MODIFIED:20260305T211811Z
UID:3299-1772827200-1772834400@jeffleesoncomedy.com
SUMMARY:Sarnia Ontario
DESCRIPTION:
URL:https://jeffleesoncomedy.com/tour-date/sarnia-ontario/
END:VEVENT
BEGIN:VEVENT
DTSTART;TZID=America/New_York:20260307T200000
DTEND;TZID=America/New_York:20260307T220000
DTSTAMP:20260421T055840
CREATED:20251023T024032Z
LAST-MODIFIED:20251221T073156Z
UID:3296-1772913600-1772920800@jeffleesoncomedy.com
SUMMARY:Fergus Ontario
DESCRIPTION:
URL:https://jeffleesoncomedy.com/tour-date/fergus-ontario/
END:VEVENT
BEGIN:VEVENT
DTSTART;TZID=America/New_York:20260313T200000
DTEND;TZID=America/New_York:20260313T220000
DTSTAMP:20260421T055840
CREATED:20251111T024756Z
LAST-MODIFIED:20260105T061052Z
UID:3311-1773432000-1773439200@jeffleesoncomedy.com
SUMMARY:Port Stanley
DESCRIPTION:
URL:https://jeffleesoncomedy.com/tour-date/port-stanley/
END:VEVENT
BEGIN:VEVENT
DTSTART;TZID=America/New_York:20260314T200000
DTEND;TZID=America/New_York:20260314T220000
DTSTAMP:20260421T055840
CREATED:20251118T152607Z
LAST-MODIFIED:20251223T070000Z
UID:3322-1773518400-1773525600@jeffleesoncomedy.com
SUMMARY:Blyth Ontario
DESCRIPTION:
URL:https://jeffleesoncomedy.com/tour-date/blyth-ontario/
END:VEVENT
BEGIN:VEVENT
DTSTART;TZID=America/New_York:20260327T200000
DTEND;TZID=America/New_York:20260327T223000
DTSTAMP:20260421T055840
CREATED:20251111T025217Z
LAST-MODIFIED:20260213T070821Z
UID:3313-1774641600-1774650600@jeffleesoncomedy.com
SUMMARY:Cobourg
DESCRIPTION:
URL:https://jeffleesoncomedy.com/tour-date/cobourg/
END:VEVENT
BEGIN:VEVENT
DTSTART;TZID=America/New_York:20260328T200000
DTEND;TZID=America/New_York:20260328T220000
DTSTAMP:20260421T055840
CREATED:20251126T182221Z
LAST-MODIFIED:20260130T065212Z
UID:3329-1774728000-1774735200@jeffleesoncomedy.com
SUMMARY:Cornwall
DESCRIPTION:
URL:https://jeffleesoncomedy.com/tour-date/cornwall/
END:VEVENT
END:VCALENDAR